BEGIN:VCALENDAR
VERSION:2.0
PRODID:-//www.kansascasa.org//NONSGML kigkonsult.se iCalcreator 2.30.10//
CALSCALE:GREGORIAN
METHOD:PUBLISH
UID:6716d49e-a42e-4468-8934-4dd542cebf6a
X-WR-CALDESC:Indulge in an evening of decadence and generosity. The Chocola
 te Auction promises an array of delightful experiences\, all while raising
  essential funds to empower Central Kansas CASA\, Inc. in its mission to a
 dvocate for children in need. Central Kansas CASA\, Inc. serves the follow
 ing counties: Russell\, Barton\, Stafford\, Rice & Ellsworth\n\nLearn more
  about the event here: https://www.centralkansascasa.org/chocolate-auction
X-WR-RELCALID:a91c8a52e9c8cf875f8d2f88e414f1f3
X-WR-TIMEZONE:America/Chicago
BEGIN:VTIMEZONE
TZID:America/Chicago
BEGIN:STANDARD
TZNAME:CST
DTSTART:20241103T020000
TZOFFSETFROM:-0500
TZOFFSETTO:-0600
RDATE:20251102T020000
END:STANDARD
BEGIN:DAYLIGHT
TZNAME:CDT
DTSTART:20240310T020000
TZOFFSETFROM:-0600
TZOFFSETTO:-0500
RDATE:20250309T020000
RDATE:20260308T020000
END:DAYLIGHT
END:VTIMEZONE
BEGIN:VEVENT
UID:fc8d9a44-9166-42ed-914a-e7b0a9c48863
DTSTAMP:20260424T033306Z
DESCRIPTION:Indulge in an evening of decadence and generosity. The Chocolat
 e Auction promises an array of delightful experiences\, all while raising 
 essential funds to empower Central Kansas CASA\, Inc. in its mission to ad
 vocate for children in need. Central Kansas CASA\, Inc. serves the followi
 ng counties: Russell\, Barton\, Stafford\, Rice & Ellsworth\n\nLearn more 
 about the event here: https://www.centralkansascasa.org/chocolate-auction
DTSTART;TZID=America/Chicago:20250201T173000
DTEND;TZID=America/Chicago:20250201T230000
LOCATION:3111 10th St\, Great Bend\, KS 67530 US
SUMMARY:20th Anniversary Central Kansas CASA Chocolate Auction
END:VEVENT
END:VCALENDAR
