BEGIN:VCALENDAR
VERSION:2.0
PRODID:-//www.kansascasa.org//NONSGML kigkonsult.se iCalcreator 2.30.10//
CALSCALE:GREGORIAN
METHOD:PUBLISH
UID:e7c833e2-9c8d-4e97-912f-12966329dcf1
X-WR-CALDESC:Kansas CASA Association is partnering with the Department of H
 omeland Security’s Know2Protect campaign to host a free virtual training o
 n the growing threat of online child sexual exploitation and abuse. We inv
 ite you and your network to attend this important session to learn how to 
 better protect children in online spaces.\n\nThis training is open to anyo
 ne who has a child in their life and wants to be informed about the risks 
 children face online. The session will cover practical tools and strategie
 s to recognize\, prevent\, and respond to online exploitation.\n\nRegister
  today!\n
X-WR-RELCALID:b83f6249a685db05da644693d5fa7bd7
X-WR-TIMEZONE:America/Chicago
BEGIN:VTIMEZONE
TZID:America/Chicago
BEGIN:STANDARD
TZNAME:CST
DTSTART:20241103T020000
TZOFFSETFROM:-0500
TZOFFSETTO:-0600
RDATE:20251102T020000
END:STANDARD
BEGIN:DAYLIGHT
TZNAME:CDT
DTSTART:20250309T020000
TZOFFSETFROM:-0600
TZOFFSETTO:-0500
RDATE:20260308T020000
END:DAYLIGHT
END:VTIMEZONE
BEGIN:VEVENT
UID:dfa48932-e54d-47ea-9f37-cefb14d7d105
DTSTAMP:20260424T015547Z
DESCRIPTION:Kansas CASA Association is partnering with the Department of Ho
 meland Security’s Know2Protect campaign to host a free virtual training on
  the growing threat of online child sexual exploitation and abuse. We invi
 te you and your network to attend this important session to learn how to b
 etter protect children in online spaces.\n\nThis training is open to anyon
 e who has a child in their life and wants to be informed about the risks c
 hildren face online. The session will cover practical tools and strategies
  to recognize\, prevent\, and respond to online exploitation.\n\nRegister 
 today!\n
DTSTART;TZID=America/Chicago:20250326T180000
DTEND;TZID=America/Chicago:20250326T193000
LOCATION:Virtual
SUMMARY:Know2Protect Virtual Training
END:VEVENT
END:VCALENDAR
