BEGIN:VCALENDAR
VERSION:2.0
PRODID:-//www.kansascasa.org//NONSGML kigkonsult.se iCalcreator 2.30.10//
CALSCALE:GREGORIAN
METHOD:PUBLISH
UID:6dc8fa53-f11a-4e93-afad-5ae711692308
X-WR-CALDESC:
X-WR-RELCALID:cab4a6b570690e487267ea5603acb0ff
X-WR-TIMEZONE:America/Chicago
BEGIN:VTIMEZONE
TZID:America/Chicago
BEGIN:STANDARD
TZNAME:CST
DTSTART:20241103T020000
TZOFFSETFROM:-0500
TZOFFSETTO:-0600
RDATE:20251102T020000
RDATE:20261101T020000
END:STANDARD
BEGIN:DAYLIGHT
TZNAME:CDT
DTSTART:20250309T020000
TZOFFSETFROM:-0600
TZOFFSETTO:-0500
RDATE:20260308T020000
RDATE:20270314T020000
END:DAYLIGHT
END:VTIMEZONE
BEGIN:VEVENT
UID:d5cd97ae-f6a6-45ee-940c-081fc6fb3d9a
DTSTAMP:20260423T153503Z
DESCRIPTION:
DTSTART;TZID=America/Chicago:20250927T133000
DTEND;TZID=America/Chicago:20250927T170000
LOCATION:100 S Christian Ave.\, Moundridge\, KS 67107 US
SUMMARY:Corn Hole Tournament Fundraiser | CASA: A Voice for Children\, Inc.
  | Moundridge\, KS
END:VEVENT
END:VCALENDAR
