BEGIN:VCALENDAR
VERSION:2.0
PRODID:-//www.kansascasa.org//NONSGML kigkonsult.se iCalcreator 2.30.10//
CALSCALE:GREGORIAN
METHOD:PUBLISH
UID:1830b6b8-58a4-4043-b71e-16c111c690db
X-WR-CALDESC:A day of fun and activities for the whole family to benefit ch
 ildren in the 16th Judicial District who have experienced abuse or neglect
 . Come enjoy and benefit CASA - Children Worth Saving\, Inc.! $25 per pers
 on and children 12 and under are free with paid adult.\n\nPOKER RUN INFORM
 ATION: Registration 7:00 am - 8:00 am in Wright Park. $25 for first rider/
 $15 passenger which includes entrance into the event. 8:00 am - Blessing o
 f the Bikes and 1st Bike out. 3:00 pm last bike in. Route will leave from 
 Wright Park\, Dodge City - Cimarron - Meade City Park - Ashland - Bucklin 
 - Kinsley - back to Wright Park (more details will be provided at registra
 tion). At approximately 3:00 pm\, there will be several motorcycle games f
 or those poker run riders who want to participate. Thank you to Richard Kn
 oeber and ABATE of Kansas District 7 for the help in organizing the poker 
 run!\n\nCLASSIC CAR CRUISE-IN INFORMATION: 12:00 NOON - 1:00 PM\, Classic 
 cars line up on street in front of the bandshell in Wright Park. 1:00 pm -
  7:00 pm classic cars will be on display. Car owners are welcome to stay l
 onger as the event goes to 11:00 pm. Anyone is welcome to bring in and sho
 w off their classic cars/vehicles. $25 for drive/$15 for passenger which i
 ncludes entrance to the event.\n\nCRUISIN' FOR CASA EVENT INFORMATION: Act
 ivities will start at 1:00 pm with DJ music and entertainment by Jason Tho
 rnbrugh\, food trucks\, beer garden\, vendors\, kids games/activities\, ad
 ult yard games\, etc. During the event\, we will be raffling off some grea
 t items and will have a 50/50 raffle and you must be present to win.\n'The
 m Spicy Boys' is a two man acoustic band and will provide live music from 
 4:30 pm - 7:30 pm. Thank you to Hugo Hernandez\, one of the two members of
  'Them Spicy Boys' for all his help with the entire event!\n'Paramount' is
  a 80's Rock band and will play live music from 8:00 pm - 11:00 pm.
X-WR-RELCALID:c4d1888faacf325789645eff1120ab6b
X-WR-TIMEZONE:America/Chicago
BEGIN:VTIMEZONE
TZID:America/Chicago
BEGIN:STANDARD
TZNAME:CST
DTSTART:20241103T020000
TZOFFSETFROM:-0500
TZOFFSETTO:-0600
RDATE:20251102T020000
RDATE:20261101T020000
END:STANDARD
BEGIN:DAYLIGHT
TZNAME:CDT
DTSTART:20250309T020000
TZOFFSETFROM:-0600
TZOFFSETTO:-0500
RDATE:20260308T020000
RDATE:20270314T020000
END:DAYLIGHT
END:VTIMEZONE
BEGIN:VEVENT
UID:8ef9e7a5-5296-4ea0-8928-97e200220d99
DTSTAMP:20260423T154019Z
DESCRIPTION:A day of fun and activities for the whole family to benefit chi
 ldren in the 16th Judicial District who have experienced abuse or neglect.
  Come enjoy and benefit CASA - Children Worth Saving\, Inc.! $25 per perso
 n and children 12 and under are free with paid adult.\n\nPOKER RUN INFORMA
 TION: Registration 7:00 am - 8:00 am in Wright Park. $25 for first rider/$
 15 passenger which includes entrance into the event. 8:00 am - Blessing of
  the Bikes and 1st Bike out. 3:00 pm last bike in. Route will leave from W
 right Park\, Dodge City - Cimarron - Meade City Park - Ashland - Bucklin -
  Kinsley - back to Wright Park (more details will be provided at registrat
 ion). At approximately 3:00 pm\, there will be several motorcycle games fo
 r those poker run riders who want to participate. Thank you to Richard Kno
 eber and ABATE of Kansas District 7 for the help in organizing the poker r
 un!\n\nCLASSIC CAR CRUISE-IN INFORMATION: 12:00 NOON - 1:00 PM\, Classic c
 ars line up on street in front of the bandshell in Wright Park. 1:00 pm - 
 7:00 pm classic cars will be on display. Car owners are welcome to stay lo
 nger as the event goes to 11:00 pm. Anyone is welcome to bring in and show
  off their classic cars/vehicles. $25 for drive/$15 for passenger which in
 cludes entrance to the event.\n\nCRUISIN' FOR CASA EVENT INFORMATION: Acti
 vities will start at 1:00 pm with DJ music and entertainment by Jason Thor
 nbrugh\, food trucks\, beer garden\, vendors\, kids games/activities\, adu
 lt yard games\, etc. During the event\, we will be raffling off some great
  items and will have a 50/50 raffle and you must be present to win.\n'Them
  Spicy Boys' is a two man acoustic band and will provide live music from 4
 :30 pm - 7:30 pm. Thank you to Hugo Hernandez\, one of the two members of 
 'Them Spicy Boys' for all his help with the entire event!\n'Paramount' is 
 a 80's Rock band and will play live music from 8:00 pm - 11:00 pm.
DTSTART;TZID=America/Chicago:20250927T070000
DTEND;TZID=America/Chicago:20250927T230000
LOCATION:71 N 2nd Ave\, Dodge City\, KS 67801 US
SUMMARY:Cruisin' For CASA Poker Run & Motorcycle Festival | CASA-Children W
 orth Saving\, Inc. | Dodge City\, KS
END:VEVENT
END:VCALENDAR
