BEGIN:VCALENDAR
VERSION:2.0
PRODID:-//www.kansascasa.org//NONSGML kigkonsult.se iCalcreator 2.30.10//
CALSCALE:GREGORIAN
METHOD:PUBLISH
UID:6cd92b27-3fce-434a-b8fa-96f36026a034
X-WR-CALDESC:Stop by Gold Nutrition during happy hour and learn about the r
 ole CASA plays in their community!
X-WR-RELCALID:7507ce626c0b76be1bd6525dd3d47aa8
X-WR-TIMEZONE:America/Chicago
BEGIN:VTIMEZONE
TZID:America/Chicago
BEGIN:STANDARD
TZNAME:CST
DTSTART:20241103T020000
TZOFFSETFROM:-0500
TZOFFSETTO:-0600
RDATE:20251102T020000
RDATE:20261101T020000
END:STANDARD
BEGIN:DAYLIGHT
TZNAME:CDT
DTSTART:20250309T020000
TZOFFSETFROM:-0600
TZOFFSETTO:-0500
RDATE:20260308T020000
RDATE:20270314T020000
END:DAYLIGHT
END:VTIMEZONE
BEGIN:VEVENT
UID:dc4ef865-1bf9-4b9a-bfee-9f336e1e7351
DTSTAMP:20260423T142247Z
DESCRIPTION:Stop by Gold Nutrition during happy hour and learn about the ro
 le CASA plays in their community!
DTSTART;TZID=America/Chicago:20251009T133000
DTEND;TZID=America/Chicago:20251009T160000
LOCATION:1301 Main Street\, Winfield\, KS 67156 US
SUMMARY:CASA at Gold Nutrition | CASA of Cowley County | Winfield\, KS
END:VEVENT
END:VCALENDAR
