BEGIN:VCALENDAR
VERSION:2.0
PRODID:-//www.kansascasa.org//NONSGML kigkonsult.se iCalcreator 2.30.10//
CALSCALE:GREGORIAN
METHOD:PUBLISH
UID:ceacfe1d-aadb-4d72-87ad-5f18c662511c
X-WR-CALDESC:Paint a welcome mat and enjoy wine at the same time! $50/perso
 n: includes paint\, paint brushes\, stencils\, welcome mat and a ticket fo
 r wine.
X-WR-RELCALID:1c2c9e7837ef0c7b1b4f042f9041225d
X-WR-TIMEZONE:America/Chicago
BEGIN:VTIMEZONE
TZID:America/Chicago
BEGIN:STANDARD
TZNAME:CST
DTSTART:20241103T020000
TZOFFSETFROM:-0500
TZOFFSETTO:-0600
RDATE:20251102T020000
RDATE:20261101T020000
END:STANDARD
BEGIN:DAYLIGHT
TZNAME:CDT
DTSTART:20250309T020000
TZOFFSETFROM:-0600
TZOFFSETTO:-0500
RDATE:20260308T020000
RDATE:20270314T020000
END:DAYLIGHT
END:VTIMEZONE
BEGIN:VEVENT
UID:312dd264-7340-48ac-a580-778c41bcc4d0
DTSTAMP:20260423T145611Z
DESCRIPTION:Paint a welcome mat and enjoy wine at the same time! $50/person
 : includes paint\, paint brushes\, stencils\, welcome mat and a ticket for
  wine.
DTSTART;TZID=America/Chicago:20251011T140000
DTEND;TZID=America/Chicago:20251011T170000
LOCATION:222 N Main St.\, Newton\, KS 67114 US
SUMMARY:Paint a Mat & Wine | CASA: A Voice for Children | Newton\, KS
END:VEVENT
END:VCALENDAR
