BEGIN:VCALENDAR
VERSION:2.0
PRODID:-//www.kansascasa.org//NONSGML kigkonsult.se iCalcreator 2.30.10//
CALSCALE:GREGORIAN
METHOD:PUBLISH
UID:356e1ea1-3510-4e3f-9323-70204b6d2da3
X-WR-CALDESC:Paint\, sip\, and laugh with CASA of Johnson & Wyandotte Count
 ies! Create your own fall wagon masterpiece - no experience needed - and s
 upport CASA with every brushstroke. Use code: 081425 to register.
X-WR-RELCALID:a9cb042dcb607acdb8ffd3ea8796255d
X-WR-TIMEZONE:America/Chicago
BEGIN:VTIMEZONE
TZID:America/Chicago
BEGIN:STANDARD
TZNAME:CST
DTSTART:20241103T020000
TZOFFSETFROM:-0500
TZOFFSETTO:-0600
RDATE:20251102T020000
RDATE:20261101T020000
END:STANDARD
BEGIN:DAYLIGHT
TZNAME:CDT
DTSTART:20250309T020000
TZOFFSETFROM:-0600
TZOFFSETTO:-0500
RDATE:20260308T020000
RDATE:20270314T020000
END:DAYLIGHT
END:VTIMEZONE
BEGIN:VEVENT
UID:41afc593-03b6-4651-b701-40471621ac58
DTSTAMP:20260423T145647Z
DESCRIPTION:Paint\, sip\, and laugh with CASA of Johnson & Wyandotte Counti
 es! Create your own fall wagon masterpiece - no experience needed - and su
 pport CASA with every brushstroke. Use code: 081425 to register.
DTSTART;TZID=America/Chicago:20251014T173000
DTEND;TZID=America/Chicago:20251014T203000
LOCATION:6400 Glenwood St #100\, Overland Park\, KS 66202 US
SUMMARY:Painting With a Purpose | CASA of Johnson & Wyandotte Counties | Ov
 erland Park\, KS
END:VEVENT
END:VCALENDAR
