BEGIN:VCALENDAR
VERSION:2.0
PRODID:-//www.kansascasa.org//NONSGML kigkonsult.se iCalcreator 2.30.10//
CALSCALE:GREGORIAN
METHOD:PUBLISH
UID:721e8ea1-50ce-4642-8cd0-e336db85442d
X-WR-CALDESC:Kansas CASA Association\, Inc. is excited to host our first-ev
 er Planting Seeds of Hope: Fall Online Auction! This statewide fundraiser 
 will strengthen our network of 20 local CASA programs\, who work tirelessl
 y to ensure children in foster care have a voice in court and a chance at 
 a safe\, permanent home.
X-WR-RELCALID:56ff7314735f548485ad8f020cd68f21
X-WR-TIMEZONE:America/Chicago
BEGIN:VTIMEZONE
TZID:America/Chicago
BEGIN:STANDARD
TZNAME:CST
DTSTART:20241103T020000
TZOFFSETFROM:-0500
TZOFFSETTO:-0600
RDATE:20251102T020000
RDATE:20261101T020000
END:STANDARD
BEGIN:DAYLIGHT
TZNAME:CDT
DTSTART:20250309T020000
TZOFFSETFROM:-0600
TZOFFSETTO:-0500
RDATE:20260308T020000
RDATE:20270314T020000
END:DAYLIGHT
END:VTIMEZONE
BEGIN:VEVENT
UID:6f3587e2-d56a-48b5-8f08-c0c91e53b19f
DTSTAMP:20260423T123551Z
DESCRIPTION:Kansas CASA Association\, Inc. is excited to host our first-eve
 r Planting Seeds of Hope: Fall Online Auction! This statewide fundraiser w
 ill strengthen our network of 20 local CASA programs\, who work tirelessly
  to ensure children in foster care have a voice in court and a chance at a
  safe\, permanent home.
DTSTART;TZID=America/Chicago:20251030T100000
DTEND;TZID=America/Chicago:20251104T150000
LOCATION:https://www.kansascasa.org/online-auction/
SUMMARY:Planting Seeds of Hope: Online Charity Fundraiser & Auction | Kansa
 s CASA Association\, Inc.
END:VEVENT
END:VCALENDAR
