BEGIN:VCALENDAR
VERSION:2.0
PRODID:-//www.kansascasa.org//NONSGML kigkonsult.se iCalcreator 2.30.10//
CALSCALE:GREGORIAN
METHOD:PUBLISH
UID:a55c3cce-32ca-4b6e-a98a-0431618c024f
X-WR-CALDESC:Join CASA of Sedgwick County for an unforgettable night of cas
 ino games\, delicious food\, drinks\, music\, auctions\, and more — all to
  support advocacy for children in foster care. 💙n\n📅Date: Saturday\, Novem
 ber 1st\n📍Location: WSU Beggs Ballroom\n🎟 Get your tickets here: https://g
 ivebutter.com/CASAino2025\n\nLet’s make a difference\, one hand at a time.
  ♠️♥️♣️♦️
X-WR-RELCALID:3f8304865f8b2befd2946232d4033aa1
X-WR-TIMEZONE:America/Chicago
BEGIN:VTIMEZONE
TZID:America/Chicago
BEGIN:STANDARD
TZNAME:CST
DTSTART:20241103T020000
TZOFFSETFROM:-0500
TZOFFSETTO:-0600
RDATE:20251102T020000
RDATE:20261101T020000
END:STANDARD
BEGIN:DAYLIGHT
TZNAME:CDT
DTSTART:20250309T020000
TZOFFSETFROM:-0600
TZOFFSETTO:-0500
RDATE:20260308T020000
RDATE:20270314T020000
END:DAYLIGHT
END:VTIMEZONE
BEGIN:VEVENT
UID:a741acdc-b63d-4487-9a7b-51755c391979
DTSTAMP:20260423T123944Z
DESCRIPTION:Join CASA of Sedgwick County for an unforgettable night of casi
 no games\, delicious food\, drinks\, music\, auctions\, and more — all to 
 support advocacy for children in foster care. 💙n\n📅Date: Saturday\, Novemb
 er 1st\n📍Location: WSU Beggs Ballroom\n🎟 Get your tickets here: https://gi
 vebutter.com/CASAino2025\n\nLet’s make a difference\, one hand at a time. 
 ♠️♥️♣️♦️
DTSTART;TZID=America/Chicago:20251101T180000
DTEND;TZID=America/Chicago:20251101T230000
LOCATION:1845 Fairmount Street\, Wichita\, KS 67260 US
SUMMARY:CASAino Annual Fundraiser | CASA of Sedgwick County | Wichita\, KS
END:VEVENT
END:VCALENDAR
