BEGIN:VCALENDAR
VERSION:2.0
PRODID:-//www.kansascasa.org//NONSGML kigkonsult.se iCalcreator 2.30.10//
CALSCALE:GREGORIAN
METHOD:PUBLISH
UID:3164072c-e5cf-4278-a31f-fa9bab544715
X-WR-CALDESC:Dust off your boots and join CASA for Hops & Barley - an eveni
 ng of local tastings\, chef-inspired dining\, and exciting auctions at Mil
 dale Farm\, all in support of children in foster care. Get your tickets he
 re: https://secure.qgiv.com/event/2025hopsbarley
X-WR-RELCALID:d4502b6097318a5ae0cec6fead6d04d9
X-WR-TIMEZONE:America/Chicago
BEGIN:VTIMEZONE
TZID:America/Chicago
BEGIN:STANDARD
TZNAME:CST
DTSTART:20251102T020000
TZOFFSETFROM:-0500
TZOFFSETTO:-0600
RDATE:20261101T020000
END:STANDARD
BEGIN:DAYLIGHT
TZNAME:CDT
DTSTART:20250309T020000
TZOFFSETFROM:-0600
TZOFFSETTO:-0500
RDATE:20260308T020000
RDATE:20270314T020000
END:DAYLIGHT
END:VTIMEZONE
BEGIN:VEVENT
UID:384e2ef4-6a0f-4380-8e79-7aba6efc931c
DTSTAMP:20260423T123640Z
DESCRIPTION:Dust off your boots and join CASA for Hops & Barley - an evenin
 g of local tastings\, chef-inspired dining\, and exciting auctions at Mild
 ale Farm\, all in support of children in foster care. Get your tickets her
 e: https://secure.qgiv.com/event/2025hopsbarley
DTSTART;TZID=America/Chicago:20251107T180000
DTEND;TZID=America/Chicago:20251107T220000
LOCATION:35250 W 199th St\, Edgerton\, KS 66021 US
SUMMARY:Hops & Barley | CASA of Johnson & Wyandotte Counties | Edgerton\, K
 S
END:VEVENT
END:VCALENDAR
