BEGIN:VCALENDAR
VERSION:2.0
PRODID:-//www.kansascasa.org//NONSGML kigkonsult.se iCalcreator 2.30.10//
CALSCALE:GREGORIAN
METHOD:PUBLISH
UID:1c5ee238-3564-438a-b86f-fcc21b868210
X-WR-CALDESC:We are excited to be able to provide new winter coats for all 
 of the CASA of the 31st children this winter. Approximately 32 kids across
  the four counties need your help! We are grateful to partner with Iola Ph
 armacy in Iola and Shelter Insurance Agency in Chanute\, who are helping m
 ake this possible. Each location has posters displayed along with cards li
 sting a CASA child’s gender\, age\, and coat color/style preferences.\n👉Ho
 w to help:\nVisit either Iola Pharmacy or Shelter Insurance Agency.\nSelec
 t a card for the child you’d like to purchase a coat for.\nBuy the coat th
 at matches their preferences.\nReturn the new coat to the same business.\n
 Thank you for helping keep CASA kids warm this winter. Your generosity tru
 ly makes a difference!
X-WR-RELCALID:24d9af194053136d43821201524470a3
X-WR-TIMEZONE:America/Chicago
BEGIN:VTIMEZONE
TZID:America/Chicago
BEGIN:STANDARD
TZNAME:CST
DTSTART:20251102T020000
TZOFFSETFROM:-0500
TZOFFSETTO:-0600
RDATE:20261101T020000
END:STANDARD
BEGIN:DAYLIGHT
TZNAME:CDT
DTSTART:20250309T020000
TZOFFSETFROM:-0600
TZOFFSETTO:-0500
RDATE:20260308T020000
RDATE:20270314T020000
END:DAYLIGHT
END:VTIMEZONE
BEGIN:VEVENT
UID:5a396309-0bb9-4133-8fcd-3653f1eec556
DTSTAMP:20260423T110846Z
DESCRIPTION:We are excited to be able to provide new winter coats for all o
 f the CASA of the 31st children this winter. Approximately 32 kids across 
 the four counties need your help! We are grateful to partner with Iola Pha
 rmacy in Iola and Shelter Insurance Agency in Chanute\, who are helping ma
 ke this possible. Each location has posters displayed along with cards lis
 ting a CASA child’s gender\, age\, and coat color/style preferences.\n👉How
  to help:\nVisit either Iola Pharmacy or Shelter Insurance Agency.\nSelect
  a card for the child you’d like to purchase a coat for.\nBuy the coat tha
 t matches their preferences.\nReturn the new coat to the same business.\nT
 hank you for helping keep CASA kids warm this winter. Your generosity trul
 y makes a difference!
DTSTART;TZID=America/Chicago:20251126T050000
DTEND;TZID=America/Chicago:20251201T050001
LOCATION:Iola Pharmacy in Iola and Shelter Insurance in Chanute are the dro
 p off locations.
SUMMARY:Coat Drive | CASA of the 31st Judicial District | Iola & Chanute\, 
 KS
END:VEVENT
END:VCALENDAR
