BEGIN:VCALENDAR
VERSION:2.0
PRODID:-//www.kansascasa.org//NONSGML kigkonsult.se iCalcreator 2.30.10//
CALSCALE:GREGORIAN
METHOD:PUBLISH
UID:e06a7ef9-6e6e-49f8-983e-c7211fc6c489
X-WR-CALDESC:Stop by and say 'Hi'\, celebrate their Advocates\, and see how
  YOU can make a difference for local youth! Hors d'oeuvres and desserts wi
 ll be provided.
X-WR-RELCALID:2ba0a50ffae239fbe13b2c70d61a289d
X-WR-TIMEZONE:America/Chicago
BEGIN:VTIMEZONE
TZID:America/Chicago
BEGIN:STANDARD
TZNAME:CST
DTSTART:20251102T020000
TZOFFSETFROM:-0500
TZOFFSETTO:-0600
RDATE:20261101T020000
END:STANDARD
BEGIN:DAYLIGHT
TZNAME:CDT
DTSTART:20250309T020000
TZOFFSETFROM:-0600
TZOFFSETTO:-0500
RDATE:20260308T020000
RDATE:20270314T020000
END:DAYLIGHT
END:VTIMEZONE
BEGIN:VEVENT
UID:d4c4521e-44dd-4bef-8bca-39c85409fda6
DTSTAMP:20260423T105553Z
DESCRIPTION:Stop by and say 'Hi'\, celebrate their Advocates\, and see how 
 YOU can make a difference for local youth! Hors d'oeuvres and desserts wil
 l be provided.
DTSTART;TZID=America/Chicago:20251204T180000
DTEND;TZID=America/Chicago:20251204T200000
LOCATION:107 W 13th St\, Hays\, KS 67601 US
SUMMARY:Annual End of Year Board Meeting & Open House | CASA of the High Pl
 ains | Hays\, KS
END:VEVENT
END:VCALENDAR
