BEGIN:VCALENDAR
VERSION:2.0
PRODID:-//www.kansascasa.org//NONSGML kigkonsult.se iCalcreator 2.30.10//
CALSCALE:GREGORIAN
METHOD:PUBLISH
UID:0958b1b6-03ba-40da-b0e2-9c17ee2d26a3
X-WR-CALDESC:This educational meeting provides a perfect opportunity to lea
 rn more about the impact CASA has in the Johnson & Wyandotte County commun
 ities and how you can increase your involvement. Connect with staff\, boar
 d members\, advocates\, and community leaders as they discuss their strate
 gic direction and honor their exceptional volunteers and donors. Influenti
 al speakers will also share insights on relevant topics that inspire and e
 ngage.\n\n​
X-WR-RELCALID:41a8c9c4ba923cbaf55ff4737dd0ca96
X-WR-TIMEZONE:America/Chicago
BEGIN:VTIMEZONE
TZID:America/Chicago
BEGIN:STANDARD
TZNAME:CST
DTSTART:20251102T020000
TZOFFSETFROM:-0500
TZOFFSETTO:-0600
RDATE:20261101T020000
END:STANDARD
BEGIN:DAYLIGHT
TZNAME:CDT
DTSTART:20250309T020000
TZOFFSETFROM:-0600
TZOFFSETTO:-0500
RDATE:20260308T020000
RDATE:20270314T020000
END:DAYLIGHT
END:VTIMEZONE
BEGIN:VEVENT
UID:7fc3532d-bcb5-47e1-800d-45c0845702cb
DTSTAMP:20260423T110810Z
DESCRIPTION:This educational meeting provides a perfect opportunity to lear
 n more about the impact CASA has in the Johnson & Wyandotte County communi
 ties and how you can increase your involvement. Connect with staff\, board
  members\, advocates\, and community leaders as they discuss their strateg
 ic direction and honor their exceptional volunteers and donors. Influentia
 l speakers will also share insights on relevant topics that inspire and en
 gage.\n\n​
DTSTART;TZID=America/Chicago:20251205T080000
DTEND;TZID=America/Chicago:20251205T103000
LOCATION:475 S. Ward Cliff\, Olathe\, KS 66061 US
SUMMARY:Annual Meeting | CASA of Johnson & Wyandotte Counties | Olathe\, KS
END:VEVENT
END:VCALENDAR
