BEGIN:VCALENDAR
VERSION:2.0
PRODID:-//www.kansascasa.org//NONSGML kigkonsult.se iCalcreator 2.30.10//
CALSCALE:GREGORIAN
METHOD:PUBLISH
UID:e54789ae-702d-48d2-8e8f-dba0129a7d00
X-WR-CALDESC:✨All day December 5th & 6th 20% of all Kendra Scott purchases 
 will benefit CASA of Sedgwick County if you show the flyer in store/mentio
 n CASA or use the code GIVEBACK-IQVUI online.✨
X-WR-RELCALID:fd0c646de548d35da6b62dea986e8d35
X-WR-TIMEZONE:America/Chicago
BEGIN:VTIMEZONE
TZID:America/Chicago
BEGIN:STANDARD
TZNAME:CST
DTSTART:20251102T020000
TZOFFSETFROM:-0500
TZOFFSETTO:-0600
RDATE:20261101T020000
END:STANDARD
BEGIN:DAYLIGHT
TZNAME:CDT
DTSTART:20250309T020000
TZOFFSETFROM:-0600
TZOFFSETTO:-0500
RDATE:20260308T020000
RDATE:20270314T020000
END:DAYLIGHT
END:VTIMEZONE
BEGIN:VEVENT
UID:7b59b4f2-b27c-48ea-a904-d26f2d307500
DTSTAMP:20260423T105959Z
DESCRIPTION:✨All day December 5th & 6th 20% of all Kendra Scott purchases w
 ill benefit CASA of Sedgwick County if you show the flyer in store/mention
  CASA or use the code GIVEBACK-IQVUI online.✨
DTSTART;TZID=America/Chicago:20251205T050000
DTEND;TZID=America/Chicago:20251206T050001
LOCATION:1423 N Webb Rd\, Ste 117\, Wichita\, KS 67206 US
SUMMARY:Shop with CASA at Kendra Scott | CASA of Sedgwick County | Wichita\
 , KS
END:VEVENT
END:VCALENDAR
