BEGIN:VCALENDAR
VERSION:2.0
PRODID:-//www.kansascasa.org//NONSGML kigkonsult.se iCalcreator 2.30.10//
CALSCALE:GREGORIAN
METHOD:PUBLISH
UID:b72f637f-5876-4c12-a981-cd34acab6cbf
X-WR-CALDESC:Join CASA of Cowley County for our annual auction fundraiser n
 ight! This event features a live and silent auction\, catered dinner\, dri
 nks by Gypsybevco\, desserts\, Wall of Spirits and Wall of Wonder\, Photob
 ooth with The Social Drifter\, and more!\n100% of the proceeds from this e
 vent directly benefit CASA of Cowley County and our work in training volun
 teers to advocate for the needs of abused and neglected children in our lo
 cal court system. All children deserve a Voice! All children deserve a CAS
 A!
X-WR-RELCALID:0411e1892b8e49d5124816ae7949fab5
X-WR-TIMEZONE:America/Chicago
BEGIN:VTIMEZONE
TZID:America/Chicago
BEGIN:STANDARD
TZNAME:CST
DTSTART:20251102T020000
TZOFFSETFROM:-0500
TZOFFSETTO:-0600
RDATE:20261101T020000
END:STANDARD
BEGIN:DAYLIGHT
TZNAME:CDT
DTSTART:20250309T020000
TZOFFSETFROM:-0600
TZOFFSETTO:-0500
RDATE:20260308T020000
RDATE:20270314T020000
END:DAYLIGHT
END:VTIMEZONE
BEGIN:VEVENT
UID:50defd7b-9404-4938-b0b8-7c686435e94d
DTSTAMP:20260423T110911Z
DESCRIPTION:Join CASA of Cowley County for our annual auction fundraiser ni
 ght! This event features a live and silent auction\, catered dinner\, drin
 ks by Gypsybevco\, desserts\, Wall of Spirits and Wall of Wonder\, Photobo
 oth with The Social Drifter\, and more!\n100% of the proceeds from this ev
 ent directly benefit CASA of Cowley County and our work in training volunt
 eers to advocate for the needs of abused and neglected children in our loc
 al court system. All children deserve a Voice! All children deserve a CASA
 !
DTSTART;TZID=America/Chicago:20251206T170000
DTEND;TZID=America/Chicago:20251206T230000
LOCATION:2203 E 9th Ave\, Winfield\, KS 67156 US
SUMMARY:Cheers to CASA | CASA of Cowley County | Winfield\, KS
END:VEVENT
END:VCALENDAR
