BEGIN:VCALENDAR
VERSION:2.0
PRODID:-//www.kansascasa.org//NONSGML kigkonsult.se iCalcreator 2.30.10//
CALSCALE:GREGORIAN
METHOD:PUBLISH
UID:42505259-caae-4d57-8557-557ae47cdd6a
X-WR-CALDESC:Events being hosted in Woodson\, Wilson\, Allen & Neosho Count
 ies SEE FLYER
X-WR-RELCALID:ac488ab559b7adc95fe54cf823523e40
X-WR-TIMEZONE:America/Chicago
BEGIN:VTIMEZONE
TZID:America/Chicago
BEGIN:STANDARD
TZNAME:CST
DTSTART:20251102T020000
TZOFFSETFROM:-0500
TZOFFSETTO:-0600
RDATE:20261101T020000
END:STANDARD
BEGIN:DAYLIGHT
TZNAME:CDT
DTSTART:20260308T020000
TZOFFSETFROM:-0600
TZOFFSETTO:-0500
RDATE:20270314T020000
END:DAYLIGHT
END:VTIMEZONE
BEGIN:VEVENT
UID:2da60bcb-ddc1-4bd8-9b16-11f5685316df
DTSTAMP:20260423T035313Z
DESCRIPTION:Events being hosted in Woodson\, Wilson\, Allen & Neosho Counti
 es SEE FLYER
DTSTART;TZID=America/Chicago:20260401T000000
DTEND;TZID=America/Chicago:20260430T000000
LOCATION:Events being hosted in Woodson\, Wilson\, Allen & Neosho Counties 
 SEE FLYER
SUMMARY:All Events - 31st JD Woodson\, Wilson\, Allen & Neosho
END:VEVENT
END:VCALENDAR
