BEGIN:VCALENDAR
VERSION:2.0
PRODID:-//www.kansascasa.org//NONSGML kigkonsult.se iCalcreator 2.30.10//
CALSCALE:GREGORIAN
METHOD:PUBLISH
UID:945bb452-2a66-4832-8f2d-b06303e8af2f
X-WR-CALDESC:Location Specified after ticket purchase.
X-WR-RELCALID:f94a1416418e9d5e0ec821b2812026ce
X-WR-TIMEZONE:America/Chicago
BEGIN:VTIMEZONE
TZID:America/Chicago
BEGIN:STANDARD
TZNAME:CST
DTSTART:20251102T020000
TZOFFSETFROM:-0500
TZOFFSETTO:-0600
RDATE:20261101T020000
END:STANDARD
BEGIN:DAYLIGHT
TZNAME:CDT
DTSTART:20260308T020000
TZOFFSETFROM:-0600
TZOFFSETTO:-0500
RDATE:20270314T020000
END:DAYLIGHT
END:VTIMEZONE
BEGIN:VEVENT
UID:f52a7f03-f624-4676-b8a9-b242936462e5
DTSTAMP:20260423T034829Z
DESCRIPTION:Location Specified after ticket purchase.
DTSTART;TZID=America/Chicago:20260408T180000
DTEND;TZID=America/Chicago:20260408T210000
LOCATION:
SUMMARY:Wichita Event - Cooking with CASA
END:VEVENT
END:VCALENDAR
