BEGIN:VCALENDAR
VERSION:2.0
PRODID:-//www.kansascasa.org//NONSGML kigkonsult.se iCalcreator 2.30.10//
CALSCALE:GREGORIAN
METHOD:PUBLISH
UID:8a841da7-e103-45c7-bdca-50e7a76204b0
X-WR-CALDESC:CASA of Sedgwick Co Driving for Change
X-WR-RELCALID:c7f25b895a178b475cc5c38be3ea54b0
X-WR-TIMEZONE:America/Chicago
BEGIN:VTIMEZONE
TZID:America/Chicago
BEGIN:STANDARD
TZNAME:CST
DTSTART:20251102T020000
TZOFFSETFROM:-0500
TZOFFSETTO:-0600
RDATE:20261101T020000
END:STANDARD
BEGIN:DAYLIGHT
TZNAME:CDT
DTSTART:20260308T020000
TZOFFSETFROM:-0600
TZOFFSETTO:-0500
RDATE:20270314T020000
END:DAYLIGHT
END:VTIMEZONE
BEGIN:VEVENT
UID:acbb850d-1e72-4598-ad59-eba531761611
DTSTAMP:20260423T034822Z
DESCRIPTION:CASA of Sedgwick Co Driving for Change
DTSTART;TZID=America/Chicago:20260409T120000
DTEND;TZID=America/Chicago:20260409T160000
LOCATION:2976 N Greenwich Rd\, Wichita\, KS 67226 US
SUMMARY:Wichita Event - Top Golf
END:VEVENT
END:VCALENDAR
