BEGIN:VCALENDAR
VERSION:2.0
PRODID:-//www.kansascasa.org//NONSGML kigkonsult.se iCalcreator 2.30.10//
CALSCALE:GREGORIAN
METHOD:PUBLISH
UID:e0d8e78f-1055-4ad6-9831-051cd7f925ee
X-WR-CALDESC:CASA of the 8th Judicial District - 12th Street Community Cent
 er
X-WR-RELCALID:e6bd036134d34ba8e99ff6f8658dfc1f
X-WR-TIMEZONE:America/Chicago
BEGIN:VTIMEZONE
TZID:America/Chicago
BEGIN:STANDARD
TZNAME:CST
DTSTART:20251102T020000
TZOFFSETFROM:-0500
TZOFFSETTO:-0600
RDATE:20261101T020000
END:STANDARD
BEGIN:DAYLIGHT
TZNAME:CDT
DTSTART:20260308T020000
TZOFFSETFROM:-0600
TZOFFSETTO:-0500
RDATE:20270314T020000
END:DAYLIGHT
END:VTIMEZONE
BEGIN:VEVENT
UID:6b711f7b-77cd-4ab5-bade-a6d44647dd5d
DTSTAMP:20260423T034845Z
DESCRIPTION:CASA of the 8th Judicial District - 12th Street Community Cente
 r
DTSTART;TZID=America/Chicago:20260411T180000
DTEND;TZID=America/Chicago:20260411T210000
LOCATION:1002 W 12th St\, Junction City\, KS 66441 US
SUMMARY:Junction City Event - Family Game Night
END:VEVENT
END:VCALENDAR
