BEGIN:VCALENDAR
VERSION:2.0
PRODID:-//www.kansascasa.org//NONSGML kigkonsult.se iCalcreator 2.30.10//
CALSCALE:GREGORIAN
METHOD:PUBLISH
UID:e53c95b5-0266-4b4c-913c-250706ec6168
X-WR-CALDESC:CASA: A Voice for Children\, Inc. Corn Hole Tournament @ Moxie
 's (Moxie Community Pub)
X-WR-RELCALID:a7d0b7153b5d7ed1997d9f3d58ef17c3
X-WR-TIMEZONE:America/Chicago
BEGIN:VTIMEZONE
TZID:America/Chicago
BEGIN:STANDARD
TZNAME:CST
DTSTART:20251102T020000
TZOFFSETFROM:-0500
TZOFFSETTO:-0600
RDATE:20261101T020000
END:STANDARD
BEGIN:DAYLIGHT
TZNAME:CDT
DTSTART:20260308T020000
TZOFFSETFROM:-0600
TZOFFSETTO:-0500
RDATE:20270314T020000
END:DAYLIGHT
END:VTIMEZONE
BEGIN:VEVENT
UID:6437b640-43af-44df-a12a-f56056f84cd5
DTSTAMP:20260423T035313Z
DESCRIPTION:CASA: A Voice for Children\, Inc. Corn Hole Tournament @ Moxie'
 s (Moxie Community Pub)
DTSTART;TZID=America/Chicago:20260411T140000
DTEND;TZID=America/Chicago:20260411T160000
LOCATION:1420 Old Main St\, Newton\, KS 67114 US
SUMMARY:Newton Event - Corn Hole Tournament
END:VEVENT
END:VCALENDAR
