BEGIN:VCALENDAR
VERSION:2.0
PRODID:-//www.kansascasa.org//NONSGML kigkonsult.se iCalcreator 2.30.10//
CALSCALE:GREGORIAN
METHOD:PUBLISH
UID:18ce7b56-9ac6-44c7-86e0-2f32911315ec
X-WR-CALDESC:
X-WR-RELCALID:13b0a520287347377c6da597d730dc94
X-WR-TIMEZONE:America/Chicago
BEGIN:VTIMEZONE
TZID:America/Chicago
BEGIN:STANDARD
TZNAME:CST
DTSTART:20251102T020000
TZOFFSETFROM:-0500
TZOFFSETTO:-0600
RDATE:20261101T020000
END:STANDARD
BEGIN:DAYLIGHT
TZNAME:CDT
DTSTART:20260308T020000
TZOFFSETFROM:-0600
TZOFFSETTO:-0500
RDATE:20270314T020000
END:DAYLIGHT
END:VTIMEZONE
BEGIN:VEVENT
UID:57100e5d-d3b4-4b9f-832c-be4091be2c9d
DTSTAMP:20260423T034927Z
DESCRIPTION:
DTSTART;TZID=America/Chicago:20260411T180000
DTEND;TZID=America/Chicago:20260411T230000
LOCATION:650 E 2nd St N\, Wichita\, KS 67202 US
SUMMARY:Wichita Event - Battle of the Bands
END:VEVENT
END:VCALENDAR
