BEGIN:VCALENDAR
VERSION:2.0
PRODID:-//www.kansascasa.org//NONSGML kigkonsult.se iCalcreator 2.30.10//
CALSCALE:GREGORIAN
METHOD:PUBLISH
UID:371f1644-75d4-499e-8511-06021dcca466
X-WR-CALDESC:CASA of Sedgwick Co Lunch & Learn
X-WR-RELCALID:80fa717cf739a7d380e16d4e32ad5c2b
X-WR-TIMEZONE:America/Chicago
BEGIN:VTIMEZONE
TZID:America/Chicago
BEGIN:STANDARD
TZNAME:CST
DTSTART:20251102T020000
TZOFFSETFROM:-0500
TZOFFSETTO:-0600
RDATE:20261101T020000
END:STANDARD
BEGIN:DAYLIGHT
TZNAME:CDT
DTSTART:20260308T020000
TZOFFSETFROM:-0600
TZOFFSETTO:-0500
RDATE:20270314T020000
END:DAYLIGHT
END:VTIMEZONE
BEGIN:VEVENT
UID:f2c20060-593e-4505-8a05-770102d88e0a
DTSTAMP:20260423T034657Z
DESCRIPTION:CASA of Sedgwick Co Lunch & Learn
DTSTART;TZID=America/Chicago:20260421T120000
DTEND;TZID=America/Chicago:20260421T130000
LOCATION:2624 E Central Ave\, Wichita\, KS 67214 US
SUMMARY:Wichita Event - Lunch & Learn
END:VEVENT
END:VCALENDAR
