BEGIN:VCALENDAR
VERSION:2.0
PRODID:-//www.kansascasa.org//NONSGML kigkonsult.se iCalcreator 2.30.10//
CALSCALE:GREGORIAN
METHOD:PUBLISH
UID:3b8179f4-3112-4540-b3c9-d7dbbf727793
X-WR-CALDESC:CASA A Voice for Children - Bingo at Three Rings @Three Rings 
 Brewery Taproom and Patio
X-WR-RELCALID:e5122e493d91dd919a636e564929d5b9
X-WR-TIMEZONE:America/Chicago
BEGIN:VTIMEZONE
TZID:America/Chicago
BEGIN:STANDARD
TZNAME:CST
DTSTART:20251102T020000
TZOFFSETFROM:-0500
TZOFFSETTO:-0600
RDATE:20261101T020000
END:STANDARD
BEGIN:DAYLIGHT
TZNAME:CDT
DTSTART:20260308T020000
TZOFFSETFROM:-0600
TZOFFSETTO:-0500
RDATE:20270314T020000
END:DAYLIGHT
END:VTIMEZONE
BEGIN:VEVENT
UID:d5a5944a-c34b-4202-a7ab-ee0bb9bd8f82
DTSTAMP:20260423T034722Z
DESCRIPTION:CASA A Voice for Children - Bingo at Three Rings @Three Rings B
 rewery Taproom and Patio
DTSTART;TZID=America/Chicago:20260424T170000
DTEND;TZID=America/Chicago:20260424T200000
LOCATION:534 U.S. Old\, US-81\,\, McPherson\, KS 67460 US
SUMMARY:McPherson Event - Bingo
END:VEVENT
END:VCALENDAR
